BEGIN:VCALENDAR
VERSION:2.0
PRODID:-//Colman Coaching - ECPv6.15.20//NONSGML v1.0//EN
CALSCALE:GREGORIAN
METHOD:PUBLISH
X-ORIGINAL-URL:https://colmancoaching.com
X-WR-CALDESC:Events for Colman Coaching
REFRESH-INTERVAL;VALUE=DURATION:PT1H
X-Robots-Tag:noindex
X-PUBLISHED-TTL:PT1H
BEGIN:VTIMEZONE
TZID:America/Denver
BEGIN:DAYLIGHT
TZOFFSETFROM:-0700
TZOFFSETTO:-0600
TZNAME:MDT
DTSTART:20210314T090000
END:DAYLIGHT
BEGIN:STANDARD
TZOFFSETFROM:-0600
TZOFFSETTO:-0700
TZNAME:MST
DTSTART:20211107T080000
END:STANDARD
BEGIN:DAYLIGHT
TZOFFSETFROM:-0700
TZOFFSETTO:-0600
TZNAME:MDT
DTSTART:20220313T090000
END:DAYLIGHT
BEGIN:STANDARD
TZOFFSETFROM:-0600
TZOFFSETTO:-0700
TZNAME:MST
DTSTART:20221106T080000
END:STANDARD
BEGIN:DAYLIGHT
TZOFFSETFROM:-0700
TZOFFSETTO:-0600
TZNAME:MDT
DTSTART:20230312T090000
END:DAYLIGHT
BEGIN:STANDARD
TZOFFSETFROM:-0600
TZOFFSETTO:-0700
TZNAME:MST
DTSTART:20231105T080000
END:STANDARD
BEGIN:DAYLIGHT
TZOFFSETFROM:-0700
TZOFFSETTO:-0600
TZNAME:MDT
DTSTART:20240310T090000
END:DAYLIGHT
BEGIN:STANDARD
TZOFFSETFROM:-0600
TZOFFSETTO:-0700
TZNAME:MST
DTSTART:20241103T080000
END:STANDARD
BEGIN:DAYLIGHT
TZOFFSETFROM:-0700
TZOFFSETTO:-0600
TZNAME:MDT
DTSTART:20250309T090000
END:DAYLIGHT
BEGIN:STANDARD
TZOFFSETFROM:-0600
TZOFFSETTO:-0700
TZNAME:MST
DTSTART:20251102T080000
END:STANDARD
END:VTIMEZONE
BEGIN:VTIMEZONE
TZID:America/New_York
BEGIN:DAYLIGHT
TZOFFSETFROM:-0500
TZOFFSETTO:-0400
TZNAME:EDT
DTSTART:20220313T070000
END:DAYLIGHT
BEGIN:STANDARD
TZOFFSETFROM:-0400
TZOFFSETTO:-0500
TZNAME:EST
DTSTART:20221106T060000
END:STANDARD
BEGIN:DAYLIGHT
TZOFFSETFROM:-0500
TZOFFSETTO:-0400
TZNAME:EDT
DTSTART:20230312T070000
END:DAYLIGHT
BEGIN:STANDARD
TZOFFSETFROM:-0400
TZOFFSETTO:-0500
TZNAME:EST
DTSTART:20231105T060000
END:STANDARD
BEGIN:DAYLIGHT
TZOFFSETFROM:-0500
TZOFFSETTO:-0400
TZNAME:EDT
DTSTART:20240310T070000
END:DAYLIGHT
BEGIN:STANDARD
TZOFFSETFROM:-0400
TZOFFSETTO:-0500
TZNAME:EST
DTSTART:20241103T060000
END:STANDARD
END:VTIMEZONE
BEGIN:VTIMEZONE
TZID:America/Los_Angeles
BEGIN:DAYLIGHT
TZOFFSETFROM:-0800
TZOFFSETTO:-0700
TZNAME:PDT
DTSTART:20220313T100000
END:DAYLIGHT
BEGIN:STANDARD
TZOFFSETFROM:-0700
TZOFFSETTO:-0800
TZNAME:PST
DTSTART:20221106T090000
END:STANDARD
BEGIN:DAYLIGHT
TZOFFSETFROM:-0800
TZOFFSETTO:-0700
TZNAME:PDT
DTSTART:20230312T100000
END:DAYLIGHT
BEGIN:STANDARD
TZOFFSETFROM:-0700
TZOFFSETTO:-0800
TZNAME:PST
DTSTART:20231105T090000
END:STANDARD
BEGIN:DAYLIGHT
TZOFFSETFROM:-0800
TZOFFSETTO:-0700
TZNAME:PDT
DTSTART:20240310T100000
END:DAYLIGHT
BEGIN:STANDARD
TZOFFSETFROM:-0700
TZOFFSETTO:-0800
TZNAME:PST
DTSTART:20241103T090000
END:STANDARD
END:VTIMEZONE
BEGIN:VEVENT
DTSTART;TZID=America/Denver:20240111T090000
DTEND;TZID=America/Denver:20240111T133000
DTSTAMP:20260425T171918
CREATED:20190416T155026Z
LAST-MODIFIED:20240106T223831Z
UID:10339-1704963600-1704979800@colmancoaching.com
SUMMARY:4/4/24 San Francisco | High Stakes Presentations and Public Speaking Program for Women Leaders
DESCRIPTION:Total Coaching Systems presents\nHigh Stakes Presentations:\nPublic Speaking Program for Women Leaders\nHalf-Day Program – January 11\, 2024 – 9:00 am – 2:00 pm | $799 \nBring a colleague for free\nhttps://www.youtube.com/watch?v=LRs8hTKZKPIAs a woman\, would you like to: \n– Lead by example and use your stories to inspire others to rise? \n– Become more succinct and focused with your messaging in presentations and meetings? \n– Nail down an inspiring introduction about your organization\, team strategy\, product\, or service? \n– Remove your public speaking jitters and nerves? \n– Incorporate EPIC facilitation habits into your meetings? \nThen join top Fortune 1000 communications coach and leadership trainer\, Kendall Colman for a comprehensive public speaking program that focuses on how to create and deliver engaging presentations with the audience in mind. Learn more about our speech coaching approach. \n																														 \nSo far in 2023\, our clients have been getting a lot out of our programs\, collectively scoring our virtual and in-person coaching programs a 9.6/10. \nThis course is for you if you: \n\nBuild your communications based on the impact you want to have\nStep into your authority\nHave better in front-of-the-room presence\nBreak free from past perception of yourself\nWant a promotion and need a better way to ask\nTell your truth in bigger and bolder ways\nAsk for a raise and communicating your value\nIntroduce yourself in new and lasting ways\nMap your presentation on a timeline (before\, during and after)\nLearn to receive your applause\nMessage your topics in new and empowering ways\nAdvance your agenda quickly\nShow up in bigger ways\n\nBeing able to communicate with ease about your strategy\, team\, service\, product or business is one of the most powerful ways to connect with potential customers\, grow your business. and have a bigger impact. \nYou are asked regularly to be prepared on the following topics: \n\nYour Vision\, Mission\, and Values\nYour team\nMarket Assessment and Possible Disruptors\nESG and Climate\nFinancial Situation\nTalent and Team\nPartnerships and Centers of Influence\nBrand and Reputation\nCreating the Future for your Clients—What are Their Needs/Issues\n\nYou will leave this session with an understanding of the mind\, body and heart approach to public speaking. 9am-2pm – $799   \nRegister here: Please enable JavaScript in your browser to complete this form.Name *FirstLastEmail *Phone Number *CompanyRoleAre you bringing a friend or colleague? *YesNoIf yes\, what is their name and email address?Would you like to add the DISC Behavior Styles for $29?Once complete\, we can send you your values assessment\, and schedule your pre-coaching call. Do you have any final questions for the TCS team?Event Fee (Bring a colleague for free) *Price: $799.00Square *CardName on CardParagraph TextRegister   \n 
URL:https://colmancoaching.com/events/4-4-24sf_women-2/
CATEGORIES:Center Stage,High Stakes Presentations,High-Stakes Public Speaking
END:VEVENT
BEGIN:VEVENT
DTSTART;TZID=America/Denver:20240111T090000
DTEND;TZID=America/Denver:20240111T130000
DTSTAMP:20260425T171918
CREATED:20190416T155026Z
LAST-MODIFIED:20240107T173553Z
UID:10291-1704963600-1704978000@colmancoaching.com
SUMMARY:1/11/24 Denver |  Speaking for Impact Program for Women Leaders
DESCRIPTION:Total Coaching Systems presents\nSpeaking For Impact: High Stakes Communications Program for Women Leaders \nLocation: FirstBank Headquarters Lakewood\, Colorado\nHalf-Day Program – January 11\, 2024 – 9:00 am – 1:00 pm  \n \nAs a woman\, would you like to:\n– Lead by example and use your stories to inspire others to rise? \n– Become more succinct and focused with your messaging in presentations and meetings? \n– Nail down an inspiring introduction about your organization\, team strategy\, product\, or service? \n– Remove your public speaking jitters and nerves? \n– Incorporate EPIC facilitation habits into your meetings? \nThen join Fortune 1000 communications coach and leadership trainer\, Kendall Colman for a comprehensive public speaking program that focuses on how to create and deliver engaging presentations with the audience in mind. Learn more about our speech coaching approach. \nSo far in 2023\, our clients have been getting a lot out of our programs\, collectively scoring our virtual and in-person coaching programs a 9.6/10. \nThis course is for you if you: \n\nBuild your communications based on the impact you want to have\nStep into your authority\nHave better in front-of-the-room presence\nBreak free from past perception of yourself\nWant a promotion and need a better way to ask\nTell your truth in bigger and bolder ways\nAsk for a raise and communicate your value\nIntroduce yourself in new and lasting ways\nMap your presentation on a timeline (before\, during and after)\nLearn to receive your applause\nMessage your topics in new and empowering ways\nAdvance your agenda quickly\nShow up in bigger ways\n\nBeing able to communicate with ease is one of the most powerful ways to connect with potential customers\, grow your business. and have a bigger impact. \nYou are asked regularly to be prepared on the following topics: \n\nYour Vision\, Mission\, and Values\nYour team and culture\nMarket assessment\, AI and possible disruptors\nESG and sustainability\nFinancial update\nTalent and Team\nPartnerships and Centers of Influence\nBrand and Reputation\nCreating the Future for your Clients—What are Their Needs/Issues\n\nYou will leave this session with an understanding of the mind\, body and heart approach to public speaking. We put the fun in fundamentals of learning. \n \nTestimonials of Hundreds of Colorado and USA Leadershttps://www.youtube.com/watch?v=LRs8hTKZKPIPlease enable JavaScript in your browser to complete this form.Name *FirstLastEmail *Phone Number *CompanyRoleAre you bringing a friend or colleague? *YesNoIf yes\, what is their name and email address?Would you like to add the DISC Behavior Styles for $29?Once complete\, we can send you your values assessment\, and schedule your pre-coaching call. Do you have any final questions for the TCS team?Event Fee (Bring a colleague for free) *Price: $799.00Square *CardName on CardParagraph TextRegister
URL:https://colmancoaching.com/events/1-11-24denverwomen/
CATEGORIES:Center Stage,High Stakes Presentations,High-Stakes Public Speaking
END:VEVENT
BEGIN:VEVENT
DTSTART;TZID=America/New_York:20231214T110000
DTEND;TZID=America/New_York:20231214T150000
DTSTAMP:20260425T171918
CREATED:20220330T183956Z
LAST-MODIFIED:20231204T192032Z
UID:10098-1702551600-1702566000@colmancoaching.com
SUMMARY:12/14/23 | Denver | Speaking & Leading for Impact in 2024 with Kendall Colman & R. Chris Clark
DESCRIPTION:Leaders:\nYou’ve likely heard that public speaking\, giving a business presentation\, or even facilitating a meeting ranks as one the greatest fears for most people. You’ve also likely been inspired by a speaker who influenced you in unforgettable ways. \nIt’s more difficult than ever to capture the mind\, heart and imagination of today’s distracted audiences with ever shortening attentions spans. \nHave you ever felt like this before you deliver your presentation? \nWE CAN HELP. HAVE YOU EVER FELT THIS WAY BEFORE A PRESENTATION?\nhttps://colmancoaching.com/wp-content/uploads/2019/10/Fear_PromoV2.mp4\n\n																											 \n9:00 am – 1:00 pm \n$799 (Bring a colleague at no extra cost) \n20 Available Spots \nLocation Sponsor: FirstBank Headquarters \n12345 West Colfax \nLakewood\, CO. 80215 \n \nRequest information about longer trainings for your teams. \n\nThis half day session is for you if:\n\nYou are ready to be a more effective leader and speaker. You know that you could make a bigger difference if you could speak in a way that would motivate and inspire others. You would love to fill others with a sense of trust in you and the information presented.\nYou crave a more true and liberated self-expression. You feel a gap\, delay or outright block between what your inner voice wants to say\, and what actually comes out of your mouth. You know this hesitation is hurting you in more ways than you can count.\nYou long for a more meaningful connection with others. You know you’re missing opportunities to connect at a level that creates a real sense of interest\, engagement and desire to know you. You want to feel like what you say to others is relevant and matters.\nYou want your voice to matter and make a bigger impact. You want your message\, thoughts and ideas to deeply resonate for others and create inspired action and growth. It would feel so good to be able to really influence and profoundly move others.\nYou want to feel safe in your expression without triggering defensiveness. You want to be such a skilled and responsible communicator that you’re able to share your truth\, perspective\, feelings and create bridges of understanding versus anger and resentment.\nYou’d love to be more compelling to listen to. Wouldn’t it be nice if when you spoke people really listened… like you could hear a pin drop. You want to speak in such a way that cuts right to the point\, is completely relevant and feels authentic.\nYou want to listen so deeply that others want to share themselves with you. You know that good listening skills deepen relationship. You also know how wonderful it is to be heard and you want to be able to give that gift to others freely.\nYou yearn to further awaken your sense of purpose. You suspect that if you were more willing to speak your feelings and share your thoughts and ideas\, that it could lead you closer to what you really want and what truly matters to you.\nYou want to trust your instincts. You’d love to be able to trust that inner voice but you censor it for fear that it’s not accurate or true. You don’t really know why you’re having that thought or urge\, so you’re afraid to say it.\nYou’re tired of letting your past & your fear\, stop your voice. There are reasons why you are reluctant to speak more authentically. However\, you’re ready to transcend those old patterns and fears\, and be heard.\nYou want to play bigger and let your light shine. You want to make a bigger contribution to the world\, to the people in your environment\, with the work you are compelled to do.  If this resonates\, then join top Fortune 1000 speaker coach and voice activator\, Kendall Colman for a comprehensive mind\, body and heart public speaking program.\nYou’d like to elevate your public speaking skills\, learn new ways to open and close\, prepare inspiring content\, and enjoy delivering.\n\nWe will focus on how to create and facilitate engaging meetings and presentations with your audience in mind. Participants will be videotaped giving a brief\, prepared presentation as part of the learning experience. \nLearn more about our speech coaching approach. \n																														 \nAmong the key skills you will learn\, practice and improve\, while having fun doing so:\n\nDevelop higher level speaking skills\nUnderstand the psychology of different audiences (investors\, employees\, customers)\nUse relational presence as a way to connect with the audience and watch um’s and ahh’s drop away\nMaster curating the content and develop structure that stands out from the typical fare\nDeliver top line presentations that convey actions + effectiveness = results\nOvercome objections\, and deliver content with confidence\nPrepare presentations in a positive and productive way\nTake advantage of market intelligence\, understand competitive landscape and incorporate into presentation\nDeliver presentations in a clear\, concise and inspiring manner\nConverse easily about complicated products or challenging\, “wicked” problems\nBecome a SME\, speaking at conferences and increase media mentions in press and journals\nSpeak easily about your company and build a referral network\nIdentify decisions made at the end of the meeting and determine accountabilities\nTransform the energy of negative people or challenging personalities\nBe on point and on time\nManage your physiology (performance anxiety of any kind) for the various types of speaking events\nAvoid the mistakes many people make when they speak\n\nSee what others are saying:\n																														 \n“Kendall and her top-notch team at Total Coaching Systems are taking Arrow Electronics’ executives to the next level with their presentation and media skills. After just a few months of having Kendall and her team on board\, our Colman-coached Arrow execs are already nailing high-profile presentations and key media interviews. Arrow is Colorado’s largest company and a global player in the technology industry\, so it’s critical that we have a well-coached bench of executives able to carry our brand message to internal and external stakeholders. It’s fantastic to have a coach of Kendall’s caliber to work with right here in Denver. As a former media and presentation coach myself\, I know excellence when I see it—and\, Kendall is at the top of her game.” \n– Meghan McDonald\, Arrow Electronics \n9:00 am – 1:00 pm \n$799 (Bring a colleague at no extra cost) \n20 Available Spots \nLocation Sponsor: FirstBank Headquarters \n12345 West Colfax \nLakewood\, CO. 80215 \n \n  \nRequest information about longer trainings for your teams. \nPlease enable JavaScript in your browser to complete this form.Name *FirstLastEmail *Phone Number *CompanyRoleAre you bringing a friend or colleague? *YesNoIf yes\, what is their name and email address?What other questions or comments do you have for the TCS team?Event Fee *Price: $799.00Square *CardName on CardRegister
URL:https://colmancoaching.com/events/12-14-23denver/
LOCATION:FirstBank\, 12345 West Colfax\, Lakewood\, CO\, 80215
CATEGORIES:Emerging Leaders,High Stakes Presentations,High-Stakes Public Speaking,Leadership Development,Sales Training
END:VEVENT
BEGIN:VEVENT
DTSTART;TZID=America/Los_Angeles:20230927T070000
DTEND;TZID=America/Los_Angeles:20230927T080000
DTSTAMP:20260425T171918
CREATED:20230111T205514Z
LAST-MODIFIED:20230907T161433Z
UID:10198-1695798000-1695801600@colmancoaching.com
SUMMARY:9/27/23 EPIC Facilitation Skills Masterclass with Kendall Colman
DESCRIPTION:Did you know meetings are a microcosm of your culture?\nJoin Communications and Leadership Coach\, Kendall Colman as you learn better facilitation skills\, and hold meetings with passion and purpose\, clarity and structure. \nIf you’ve felt like it’s more difficult than ever to capture the mind\, heart and imagination of today’s distracted attendees with ever shortening attention spans before you deliver your presentations\, we can help. \nJoin my skills-based training and:\n\nDevelop higher level facilitation and speaking skills\, both informational and inspirational\nDeliver an opening to a meeting in a clear\, concise\, and aspiring manner\nDiscover how to activate your impact through meetings and conversations\nEmbody the difference physically\nActivate your authority in meetings\nSpeak from the depths of the knowledge you have\n\n  \n \nEmail us at TLC@totalcoachingsystems.com to hold your spot. \nEPIC Facilitation Skills with Kendall Colman \nFree Masterclass \nPlease enable JavaScript in your browser to complete this form.\nName *FirstLastEmail *Phone Number *CompanyRoleAre you bringing a friend or colleague? *YesNoIf yes\, what is their name and email address?What other questions or comments do you have for the TCS team?Register  \nPlease enable JavaScript in your browser to complete this form.\nName *FirstLastEmail *Phone Number *CompanyRoleAre you bringing a friend or colleague? *YesNoIf yes\, what is their name and email address?What other questions or comments do you have for the TCS team?Register
URL:https://colmancoaching.com/events/epic-2/
LOCATION:Zoom
CATEGORIES:Client Events,Emerging Leaders,High Stakes Presentations,Leadership Development
END:VEVENT
BEGIN:VEVENT
DTSTART;TZID=America/Los_Angeles:20230710T080000
DTEND;TZID=America/Los_Angeles:20230710T083000
DTSTAMP:20260425T171918
CREATED:20230111T205514Z
LAST-MODIFIED:20230630T195834Z
UID:10064-1688976000-1688977800@colmancoaching.com
SUMMARY:7/10/23 EPIC Facilitation Skills Masterclass with Kendall Colman
DESCRIPTION:EPIC Facilitation Skills Masterclass  \n \n  \nDid you know meetings are a microcosm of your culture? \nJoin Communications and Coach\, Kendall Colman as you learn better facilitation skills\, and hold meetings with passion\, purpose with clarity and structure. \nIf you’ve felt like it’s more difficult than ever to capture the mind\, heart and imagination of today’s distracted audiences with ever shortening attention spans before you deliver your presentations\, we can help. \nJoin a skills-based training and:\nDevelop higher level facilitation and speaking skills\, both informational and inspirational \nDeliver an opening to a meeting in a clear\, concise\, and inspiring manner \nDiscover how to activate your impact through meetings and conversations \nEmbody the difference physically \nActivate your authority in meetings \nSpeak from the depths of the knowledge you have \nEmail us at TLC@totalcoachingsystems.com or grab the link here: \nEPIC Facilitation Skills with Kendall Colman \nFree Masterclass \nJuly 10\, 11-11:30 EST \nRSVP: TLC@totalcoachingsystems.com \nNo Registration Required \nJoin Zoom Meeting:\nhttps://us02web.zoom.us/j/82319955752 \n  \nhttps://colmancoaching.com/wp-content/uploads/2023/01/EPIC-Facilitation-Skills.mp4\n  \nPlease enable JavaScript in your browser to complete this form.\nName *FirstLastEmail *Phone Number *CompanyRoleAre you bringing a friend or colleague? *YesNoIf yes\, what is their name and email address?What other questions or comments do you have for the TCS team?Register
URL:https://colmancoaching.com/events/epic/
LOCATION:Zoom
CATEGORIES:Client Events,Emerging Leaders,High Stakes Presentations,Leadership Development
END:VEVENT
BEGIN:VEVENT
DTSTART;TZID=America/Denver:20220121T090000
DTEND;TZID=America/Denver:20220121T100000
DTSTAMP:20260425T171918
CREATED:20211217T153557Z
LAST-MODIFIED:20211218T163501Z
UID:8469-1642755600-1642759200@colmancoaching.com
SUMMARY:Presenting to Executives Using the OneSlide Approach
DESCRIPTION:Could you see yourself improving your presentation skills in one hour?\n\n\n\nFacilitating on Zoom and other virtual platforms is here to stay.\n\nThe integration of how you deliver and what you deliver is critical\, as we live in a presentation culture—about 1.5 million presentations are given every hour. Speaking with ease about information is the best way to draw attention for great ideas\, innovations and initiatives.\n\nTo keep our learning and momentum going\, I am hosting a Live Coaching session for my clients and network.\n\nBring your OneSlide (more information forthcoming)\, and present to the group (2 min each) for feedback and learning. Don’t miss this unique opportunity to refine and get immediate tips for improvement.\n\nIf you’re feeling a little unsure or nervous about signing up or developing your presentation skills\, especially when with executives\, and presenting concisely using only one slide\, you’re invited to join me for this complimentary session\, on Jan 21\, 2022 at 9PT/12ET\, via Zoom.\n\nIn our advanced speaking courses\, we include data and information into our presentations.\n\nKey takeaways from last week’s Best Practices for Presenting on Zoom training for leaders:\n\n“Learning different speaking structures\, and ways to open / close the presentation were invaluable.”\n“Very informative and excellent presenters. Loved the breakout and appreciated the valuable critiques.”\n“Being aware in a virtual environment and not freaking out when something goes wrong. I liked the practices and seeing that everyone is different and there is no one size fits all way of presenting.”\n“Loved the feedback / coaching on our presentations! Really provided some solid tips to making even technical presentations more engaging and relevant to the audience.”\n\nThere are 6 available spots for this event. Please click this Paypal link to reserve your spot\, and enter your information on the google form.\nIf you prefer to pay through zelle\, venmo\, square or through an invoice please reach out. \nRequest information about longer trainings for your teams.
URL:https://colmancoaching.com/events/presenting-to-executives-using-the-oneslide-approach/
CATEGORIES:High Stakes Presentations,High-Stakes Public Speaking
END:VEVENT
END:VCALENDAR